Workbook

Sheet Results
A1: BALKAN RECORDS - WOMEN Balkan Masters Athletics Alltimes Outdoor Records Updated at: 30.10.2024 Updated by: M.Bora Teoman, Nikolaos Arvanitis, Ivan Puksar
A2: Event | B2: Impl. | C2: Categ | D2: Result | E2: Name / Surname | F2: Country | G2: Count | H2: Birth Date | I2: Date | J2: Location | K2: Meeting Name | L2: Observations
A3: 100m | C3: F35 | D3: 11.08 | E3: Ivet LALOVA COLLIO | F3: BUL | G3: 1 | H3: 18.05.1984 | I3: 25.08.2019 | J3: Madrid,ESP | K3: International meeting
A4: 100m | C4: F40 | D4: 11.09 | E4: Merlene OTTEY | F4: SLO | G4: 1 | H4: 10.05.1960 | I4: 03.08.2004 | J4: Liege, BEL | K4: International meeting
A5: 100m | C5: F45 | D5: 11.34 | E5: Merlene OTTEY | F5: SLO | G5: 1 | H5: 10.05.1960 | I5: 08.08.2006 | J5: Glasgow, GBR | K5: International meeting
A6: 100m | C6: F50 | D6: 11.67 | E6: Merlene OTTEY | F6: SLO | G6: 1 | H6: 10.05.1960 | I6: 13.07.2010 | J6: Novo Mesto, SLO | K6: Slovenian seniors championships
A7: 100m | C7: F55 | D7: 13.37 | E7: Renata NOVOSEL | F7: CRO | G7: 1 | H7: 28.11.1967 | I7: 08.07.2023 | J7: Varaždin, CRO | K7: Croatian championship | L7: w -0.8
A8: 100m | C8: F60 | D8: 14.56 | E8: Ileana MOSCOVITS | F8: ROU | G8: 1 | H8: 25.01.1931 | I8: 16.09.1995 | J8: Istanbul, TUR | K8: BAMACS
A9: 100m | C9: F65 | D9: 15.9 | E9: Rozka STANCHEVA | F9: BUL | G9: 1 | H9: 02.05.1932 | I9: 08.06.1997 | J9: Sofia, BUL | K9: Bulgarian masters championships
A10: 100m | C10: F70 | D10: 17.01 | E10: Aristita EREMIA | F10: ROU | G10: 1 | H10: 24.05.1954 | I10: 27.09.2024 | J10: Bar, MNE | K10: BAMACS | L10: w +0.1
A11: 100m | C11: F75 | D11: 18.37 | E11: Rozka STANCHEVA | F11: BUL | G11: 1 | H11: 02.05.1932 | I11: 05.10.2007 | J11: Plovdiv, BUL | K11: BAMACS
A12: 100m | C12: F80 | D12: 20.49 | E12: Ayse Cicek SOLON SENSOY | F12: TUR | G12: 1 | H12: 06.04.1943 | I12: 01.09.2023 | J12: Izmir,TUR | K12: BAMACS | L12: w -0,2
A13: 100m | C13: F85 | D13: 21.56 | E13: Margareta SUFLETEL | F13: ROU | G13: 1 | H13: 29.07.1934 | I13: 20.09.2019 | J13: Bucharest, ROU | K13: BAMACS
A14: 100m | C14: F90 | D14: 27.79 | E14: Elena PAGU | F14: ROU | G14: 1 | H14: 25.07.1926 | I14: 20.09.2019 | J14: Bucharest, ROU | K14: BAMACS
A15: 100m | C15: F95 | D15: 30.17 | E15: Elena PAGU | F15: ROU | G15: 1 | H15: 25.07.1926 | I15: 29.08.2021 | J15: Bucharest, ROU | K15: Romanian masters championship | L15: w -0.6
A16: 200m | C16: F35 | D16: 22.45 | E16: Ivet LALOVA COLLIO | F16: BUL | G16: 1 | H16: 18.05.1984 | I16: 03.09.2019 | J16: Pravets, BUL | K16: International meeting
A17: 200m | C17: F40 | D17: 22.72 | E17: Merlene OTTEY | F17: SLO | G17: 1 | H17: 10.05.1960 | I17: 23.08.2004 | J17: Athens, GRE | K17: Olympic games
A18: 200m | C18: F45 | D18: 23.82 | E18: Merlene OTTEY | F18: SLO | G18: 1 | H18: 10.05.1960 | I18: 27.08.2006 | J18: Banska Bystrica, SVK | K18: International meeting
A19: 200m | C19: F50 | D19: 24.33 | E19: Merlene OTTEY | F19: SLO | G19: 1 | H19: 10.05.1960 | I19: 18.07.2010 | J19: Velenje, SLO | K19: Slovenian seniors championships
A20: 200m | C20: F55 | D20: 28.03 | E20: Renata NOVOSEL | F20: CRO | G20: 1 | H20: 28.11.1967 | I20: 25.06.2023 | J20: Celje, SLO | K20: Slovenian masters | L20: w -1.5
A21: 200m | C21: F60 | D21: 32.41 | E21: Delka BAKALOVA | F21: BUL | G21: 1 | H21: 24.08.1944 | I21: 23.08.2005 | J21: San Sebastian, ESP | K21: WMACS
A22: 200m | C22: F65 | D22: 34.96 | E22: Rositsa STAMENOVA | F22: BUL | G22: 1 | H22: 06.03.1955 | I22: 25.09.2022 | J22: Thessaloniki,GRE | K22: BAMACS | L22: w -0,4
A23: 200m | C23: F70 | D23: 35.67 | E23: Aristita EREMIA | F23: ROU | G23: 1 | H23: 24.05.1954 | I23: 29.09.2024 | J23: Bar, MNE | K23: BAMACS | L23: w +1.5
A24: 200m | C24: F75 | D24: 43.38 | E24: Maria ENE | F24: ROU | G24: 1 | H24: 24.11.1938 | I24: 19.09.2015 | J24: Thessaloniki,GRE | K24: BAMACS
A25: 200m | C25: F80 | D25: 45.01 | E25: Maria ENE | F25: ROU | G25: 1 | H25: 24.11.1938 | I25: 22.09.2019 | J25: Bucharest,ROU | K25: BAMACS
A26: 200m | C26: F85 | D26: 59.02 | E26: Fehime ÖZKAN | F26: TUR | G26: 1 | H26: 1.07.1939 | I26: 29.09.2024 | J26: Bar, MNE | K26: BAMACS | L26: w +1.5
A27: 200m | C27: F90 | D27: 91.99 | E27: Veronica NEGREANU | F27: ROU | G27: 1 | H27: 06.11.1930 | I27: 29.08.2021 | J27: Bucharest,ROU | K27: Romanian masters champ. | L27: w +1.0
A28: 400m | C28: F35 | D28: 54.14 | E28: Monica GACHEVSKA | F28: BUL | G28: 1 | H28: 30.01.1974 | I28: 27.06.2009 | J28: Sofia, BUL | K28: International meeting
A29: 400m | C29: F40 | D29: 58.96 | E29: Anastasia THOMAIDOU | F29: GRE | G29: 1 | H29: 30.01.1978 | I29: 10.06.2018 | J29: Athens, GRE | K29: Greek seniors meeting
A30: 400m | C30: F45 | D30: 57.86 | E30: Anastasia THOMAIDOU | F30: GRE | G30: 1 | H30: 30.01.1978 | I30: 26.09.2023 | J30: Pescara, ITA | K30: EMACS
A31: 400m | C31: F50 | D31: 1:06.54 | E31: Anna DAFTSOU | F31: GRE | G31: 1 | H31: 25.09.1970 | I31: 01.06.2024 | J31: Alexandroupolis, GRE | K31: International Meeting of Composites and Individual Events
A32: 400m | C32: F55 | D32: 1:09.23 | E32: Hulya Figen KARADAG | F32: TUR | G32: 1 | H32: 05.05.1968 | I32: 27.07.2024 | J32: İstanbul, TUR | K32: İstanbul City Trials
A33: 400m | C33: F60 | D33: 1:13.78 | E33: Ana JERMAN | F33: SLO | G33: 1 | H33: 23.04.1952 | I33: 05.07.2014 | J33: Zagreb, CRO | K33: Slovenian masters championships
A34: 400m | C34: F65 | D34: 1:23.06 | E34: Ana JERMAN | F34: SLO | G34: 1 | H34: 23.04.1952 | I34: 22.09.2018 | J34: Celje, SLO | K34: Balkan masters championships
A35: 400m | C35: F70 | D35: 1:26.0 | E35: Ana CHOLAKOVA | F35: BUL | G35: 1 | H35: 20.05.1934 | I35: 15.07.2006 | J35: Sofia, BUL | K35: Bulgarian masters championships
A36: 400m | C36: F75 | D36: 1:34.52 | E36: Jozica ROGELJ | F36: SLO | G36: 1 | H36: 16.02.1947 | I36: 21.05.2022 | J36: Leibnitz, AUT | K36: Interstate Match
A37: 400m | C37: F80 | D37: 1:40.41 | E37: Maria ENE | F37: ROU | G37: 1 | H37: 24.11.1938 | I37: 20.09.2019 | J37: Bucharest, ROU | K37: BAMACS
A38: 400m | C38: F85 | D38: 2:28.87 | E38: Fehime ÖZKAN | F38: TUR | G38: 1 | H38: 1.07.1939 | I38: 06.07.2024 | J38: Denizli, TUR | K38: Turkish Masters Athletics Championships 2024
A39: 400m | C39: F90 | D39: 3:57.51 | E39: Despina PETRE | F39: ROU | G39: 1 | H39: 01.09.1921 | I39: 09.06.2012 | J39: Bucharest, ROU | K39: Romanian masters championships
... A100: 42km | C100: F75 | D100: 5:13:06 | E100: Voula TZEVELEKI | F100: GRE | G100: 1 | H100: 30.05.1946 | I100: 13.11.2022 | J100: Athens, GRE | K100: Athens marathon
...

Sheet Statistics
A1: Country | B1: # Of Records | C1: %
A2: ALB | B2: =SUMIF(Results!$F3:$F280,A2,Results!$G3:$G280) -> 1 | C2: =B2/B13*100 -> 0.3649635
A3: BIH | B3: =SUMIF(Results!$F3:$F280,A3,Results!$G3:$G280) -> 1 | C3: =B3/B13*100 -> 0.3649635
A4: BUL | B4: =SUMIF(Results!$F3:$F280,A4,Results!$G3:$G280) -> 37 | C4: =B4/B13*100 -> 13.50365
A5: CRO | B5: =SUMIF(Results!$F3:$F280,A5,Results!$G3:$G280) -> 10 | C5: =B5/B13*100 -> 3.649635
A6: GRE | B6: =SUMIF(Results!$F7:$F284,A6,Results!$G7:$G284) -> 48 | C6: =B6/B13*100 -> 17.518248
A7: MDA | B7: =SUMIF(Results!$F8:$F285,A7,Results!$G8:$G285) -> 15 | C7: =B7/B13*100 -> 5.4744526
A8: MNE | B8: =SUMIF(Results!$F9:$F286,A8,Results!$G9:$G286) -> 0 | C8: =B8/B13*100 -> 0
A9: ROU | B9: =SUMIF(Results!$F10:$F287,A9,Results!$G10:$G287) -> 77 | C9: =B9/B13*100 -> 28.10219
A10: SLO | B10: =SUMIF(Results!$F11:$F288,A10,Results!$G11:$G288) -> 59 | C10: =B10/B13*100 -> 21.532847
A11: SRB | B11: =SUMIF(Results!$F12:$F289,A11,Results!$G12:$G289) -> 3 | C11: =B11/B13*100 -> 1.0948905
A12: TUR | B12: =SUMIF(Results!$F3:$F280,A12,Results!$G3:G280) -> 23 | C12: =B12/B13*100 -> 8.3941606
A13: Grand Total | B13: =SUM(B2:B12) -> 274 | C13: =B13/B13*100 -> 100

Sheet Version
A1: Version | B1: 2024.10.30-v1
A2: Revised By | B2: Mehmet Bora Teoman
A4: Revisions
A5: 2024.04.28-v1 | B5: F65 Javelin Throw 400g record was removed (Zvezdana KRZIC - 24.40)
A6: 2024.04.28-v1 | B6: Statistics and Notes pages are added. Some adjustments were made on Results page.
A7: 2024.05.27-v1 | B7: F45 800m record (New Record -> Anastasia THOMAIDOU (GRE) - 2.20.90 , Old Record -> Ana JERMAN (SLO) - 2.21.35)
A8: 2024.06.06-v1 | B8: F75 Shotput record (New Record -> Marjeta CAD (SLO) - 9.01, Old Record -> Katarina SPORER (CRO) - 8.72)
A9: 2024.06.06-v1 | B9: F80 Shotput record (New Record -> Katarina SPORER (CRO) - 8.06, Old Record -> Penka HARALAMBIEVA (BUL) - 6.66)
A10: 2024.06.06-v1 | B10: F80 Discus record (New Record -> Katarina SPORER (CRO) - 17.66, Old Record -> Penka HARALAMBIEVA (BUL) - 17.60)
A11: 2024.06.06-v1 | B11: F55 Heptathlon record (New Record -> Maria MOURATIDOU (GRE) - 4463, Old Record -> Eleni GOUZIA (GRE) - 2931)
A12: 2024.06.06-v1 | B12: F50 400m record (New Record -> Anna DAFTSOU (GRE) - 1.06.54 , Old Record -> Zvonka BLATNIK (SLO) - 1.06.70)
A13: 2024.06.16-v1 | B13: F35 Hammer Throw (New Record -> Zalina MARGHIEVA (MDA) - 75.95 , Old Record -> Svetlana SUDAK (TUR) - 70.74)
A14: 2024.06.16-v1 | B14: F75 Throwing Peentathlon record (New Record -> Marjeta CAD (SLO) - 2778, Old Record -> Zvezdana KRŽIČ (SLO) - 2283)
A15: 2024.06.16-v1 | B15: F90 Hammer Throw New Record -> Rozka STANČEVA (BUL) - 6.75
A16: 2024.07.01-v1 | B16: F45 800m (New Record -> Anastasia THOMAIDOU (GRE) - 2.17.57, Old Record -> Anastasia THOMAIDOU (GRE) - 2.20.90)
... A35: 2024.10.30-v1 | B35: F55 SemiMarathon (New record -> Svetlana KAYA (TUR) - 1:27.17, Old Record -> Marjana BENEDIK (SLO) - 1:34.52)

Sheet Notes
A1: Notes
A2: 1) ONLY 21k Half Marathon, 42k Marathon and 10000m Walking events performed on the ROAD are recorded. All the other events must be held in TRACK & FIELD.
A3: 2) In order for the results in the 21K Half Marathon and 42K Marathon competitions to be considered records, the route of the race must comply with WMA rules (Competition Rules and Technical Rules Booklet, Technical Rule # 31.21).
A4: 3)
