Workbook

Sheet Results
A1: BALKAN RECORDS - WOMEN Balkan Masters Athletics Alltimes Outdoor Records Updated at: 30.10.2024 Updated by: M.Bora Teoman, Nikolaos Arvanitis, Ivan Puksar
A2: Event | B2: Impl. | C2: Categ | D2: Result | E2: Name / Surname | F2: Country | G2: Count | H2: Birth Date | I2: Date | J2: Location | K2: Meeting Name | L2: Observations
A3: 100m | C3: F35 | D3: 11.08 | E3: Ivet LALOVA COLLIO | F3: BUL | G3: 1 | H3: 18.05.1984 | I3: 25.08.2019 | J3: Madrid,ESP | K3: International meeting
A4: 100m | C4: F40 | D4: 11.09 | E4: Merlene OTTEY | F4: SLO | G4: 1 | H4: 10.05.1960 | I4: 03.08.2004 | J4: Liege, BEL | K4: International meeting
A5: 100m | C5: F45 | D5: 11.34 | E5: Merlene OTTEY | F5: SLO | G5: 1 | H5: 10.05.1960 | I5: 08.08.2006 | J5: Glasgow, GBR | K5: International meeting
A6: 100m | C6: F50 | D6: 11.67 | E6: Merlene OTTEY | F6: SLO | G6: 1 | H6: 10.05.1960 | I6: 13.07.2010 | J6: Novo Mesto, SLO | K6: Slovenian seniors championships
A7: 100m | C7: F55 | D7: 13.37 | E7: Renata NOVOSEL | F7: CRO | G7: 1 | H7: 28.11.1967 | I7: 08.07.2023 | J7: Varaždin, CRO | K7: Croatian championship | L7: w -0.8
A8: 100m | C8: F60 | D8: 14.56 | E8: Ileana MOSCOVITS | F8: ROU | G8: 1 | H8: 25.01.1931 | I8: 16.09.1995 | J8: Istanbul, TUR | K8: BAMACS
A9: 100m | C9: F65 | D9: 15.9 | E9: Rozka STANCHEVA | F9: BUL | G9: 1 | H9: 02.05.1932 | I9: 08.06.1997 | J9: Sofia, BUL | K9: Bulgarian masters championships
A10: 100m | C10: F70 | D10: 17.01 | E10: Aristita EREMIA | F10: ROU | G10: 1 | H10: 24.05.1954 | I10: 27.09.2024 | J10: Bar, MNE | K10: BAMACS | L10: w +0.1
A11: 100m | C11: F75 | D11: 18.37 | E11: Rozka STANCHEVA | F11: BUL | G11: 1 | H11: 02.05.1932 | I11: 05.10.2007 | J11: Plovdiv, BUL | K11: BAMACS
A12: 100m | C12: F80 | D12: 20.49 | E12: Ayse Cicek SOLON SENSOY | F12: TUR | G12: 1 | H12: 06.04.1943 | I12: 01.09.2023 | J12: Izmir,TUR | K12: BAMACS | L12: w -0,2
A13: 100m | C13: F85 | D13: 21.56 | E13: Margareta SUFLETEL | F13: ROU | G13: 1 | H13: 29.07.1934 | I13: 20.09.2019 | J13: Bucharest, ROU | K13: BAMACS
A14: 100m | C14: F90 | D14: 27.79 | E14: Elena PAGU | F14: ROU | G14: 1 | H14: 25.07.1926 | I14: 20.09.2019 | J14: Bucharest, ROU | K14: BAMACS
A15: 100m | C15: F95 | D15: 30.17 | E15: Elena PAGU | F15: ROU | G15: 1 | H15: 25.07.1926 | I15: 29.08.2021 | J15: Bucharest, ROU | K15: Romanian masters championship | L15: w -0.6
A16: 200m | C16: F35 | D16: 22.45 | E16: Ivet LALOVA COLLIO | F16: BUL | G16: 1 | H16: 18.05.1984 | I16: 03.09.2019 | J16: Pravets, BUL | K16: International meeting
A17: 200m | C17: F40 | D17: 22.72 | E17: Merlene OTTEY | F17: SLO | G17: 1 | H17: 10.05.1960 | I17: 23.08.2004 | J17: Athens, GRE | K17: Olympic games
A18: 200m | C18: F45 | D18: 23.82 | E18: Merlene OTTEY | F18: SLO | G18: 1 | H18: 10.05.1960 | I18: 27.08.2006 | J18: Banska Bystrica, SVK | K18: International meeting
A19: 200m | C19: F50 | D19: 24.33 | E19: Merlene OTTEY | F19: SLO | G19: 1 | H19: 10.05.1960 | I19: 18.07.2010 | J19: Velenje, SLO | K19: Slovenian seniors championships
A20: 200m | C20: F55 | D20: 28.03 | E20: Renata NOVOSEL | F20: CRO | G20: 1 | H20: 28.11.1967 | I20: 25.06.2023 | J20: Celje, SLO | K20: Slovenian masters | L20: w -1.5
A21: 200m | C21: F60 | D21: 32.41 | E21: Delka BAKALOVA | F21: BUL | G21: 1 | H21: 24.08.1944 | I21: 23.08.2005 | J21: San Sebastian, ESP | K21: WMACS
A22: 200m | C22: F65 | D22: 34.96 | E22: Rositsa STAMENOVA | F22: BUL | G22: 1 | H22: 06.03.1955 | I22: 25.09.2022 | J22: Thessaloniki,GRE | K22: BAMACS | L22: w -0,4
A23: 200m | C23: F70 | D23: 35.67 | E23: Aristita EREMIA | F23: ROU | G23: 1 | H23: 24.05.1954 | I23: 29.09.2024 | J23: Bar, MNE | K23: BAMACS | L23: w +1.5
A24: 200m | C24: F75 | D24: 43.38 | E24: Maria ENE | F24: ROU | G24: 1 | H24: 24.11.1938 | I24: 19.09.2015 | J24: Thessaloniki,GRE | K24: BAMACS
A25: 200m | C25: F80 | D25: 45.01 | E25: Maria ENE | F25: ROU | G25: 1 | H25: 24.11.1938 | I25: 22.09.2019 | J25: Bucharest,ROU | K25: BAMACS
A26: 200m | C26: F85 | D26: 59.02 | E26: Fehime ÖZKAN | F26: TUR | G26: 1 | H26: 1.07.1939 | I26: 29.09.2024 | J26: Bar, MNE | K26: BAMACS | L26: w +1.5
A27: 200m | C27: F90 | D27: 91.99 | E27: Veronica NEGREANU | F27: ROU | G27: 1 | H27: 06.11.1930 | I27: 29.08.2021 | J27: Bucharest,ROU | K27: Romanian masters champ. | L27: w +1.0
A28: 400m | C28: F35 | D28: 54.14 | E28: Monica GACHEVSKA | F28: BUL | G28: 1 | H28: 30.01.1974 | I28: 27.06.2009 | J28: Sofia, BUL | K28: International meeting
A29: 400m | C29: F40 | D29: 58.96 | E29: Anastasia THOMAIDOU | F29: GRE | G29: 1 | H29: 30.01.1978 | I29: 10.06.2018 | J29: Athens, GRE | K29: Greek seniors meeting
A30: 400m | C30: F45 | D30: 57.86 | E30: Anastasia THOMAIDOU | F30: GRE | G30: 1 | H30: 30.01.1978 | I30: 26.09.2023 | J30: Pescara, ITA | K30: EMACS
A31: 400m | C31: F50 | D31: 1:06.54 | E31: Anna DAFTSOU | F31: GRE | G31: 1 | H31: 25.09.1970 | I31: 01.06.2024 | J31: Alexandroupolis, GRE | K31: International Meeting of Composites and Individual Events
A32: 400m | C32: F55 | D32: 1:09.23 | E32: Hulya Figen KARADAG | F32: TUR | G32: 1 | H32: 05.05.1968 | I32: 27.07.2024 | J32: İstanbul, TUR | K32: İstanbul City Trials
A33: 400m | C33: F60 | D33: 1:13.78 | E33: Ana JERMAN | F33: SLO | G33: 1 | H33: 23.04.1952 | I33: 05.07.2014 | J33: Zagreb, CRO | K33: Slovenian masters championships
A34: 400m | C34: F65 | D34: 1:23.06 | E34: Ana JERMAN | F34: SLO | G34: 1 | H34: 23.04.1952 | I34: 22.09.2018 | J34: Celje, SLO | K34: Balkan masters championships
A35: 400m | C35: F70 | D35: 1:26.0 | E35: Ana CHOLAKOVA | F35: BUL | G35: 1 | H35: 20.05.1934 | I35: 15.07.2006 | J35: Sofia, BUL | K35: Bulgarian masters championships
A36: 400m | C36: F75 | D36: 1:34.52 | E36: Jozica ROGELJ | F36: SLO | G36: 1 | H36: 16.02.1947 | I36: 21.05.2022 | J36: Leibnitz, AUT | K36: Interstate Match
A37: 400m | C37: F80 | D37: 1:40.41 | E37: Maria ENE | F37: ROU | G37: 1 | H37: 24.11.1938 | I37: 20.09.2019 | J37: Bucharest, ROU | K37: BAMACS
A38: 400m | C38: F85 | D38: 2:28.87 | E38: Fehime ÖZKAN | F38: TUR | G38: 1 | H38: 1.07.1939 | I38: 06.07.2024 | J38: Denizli, TUR | K38: Turkish Masters Athletics Championships 2024
A39: 400m | C39: F90 | D39: 3:57.51 | E39: Despina PETRE | F39: ROU | G39: 1 | H39: 01.09.1921 | I39: 09.06.2012 | J39: Bucharest, ROU | K39: Romanian masters championships
... A100: 42km | C100: F75 | D100: 5:13:06 | E100: Voula TZEVELEKI | F100: GRE | G100: 1 | H100: 30.05.1946 | I100: 13.11.2022 | J100: Athens, GRE | K100: Athens marathon
A101: 100mH | B101: 0,840m | C101: F35 | D101: 13.19 | E101: Liliana NASTASE | F101: ROU | G101: 1 | H101: 01.08.1962 | I101: 24.06.2000 | J101: Bucharest, ROU | K101: Romanian seniors championships
A102: 80mH | B102: 0,762m | C102: F40 | D102: 12.15 | E102: Florina MARIN | F102: ROU | G102: 1 | H102: 05.10.1974 | I102: 05.07.2015 | J102: Bucharest, ROU | K102: Romanian masters championships
A103: 80mH | B103: 0,762m | C103: F45 | D103: 12.00 | E103: Magdalena HRISTOVA | F103: BUL | G103: 1 | H103: 25.02.1977 | I103: 09.07.2022 | J103: Tampere, FIN | K103: WMACS | L103: w 0.0
A104: 80mH | B104: 0,762m | C104: F50 | D104: 13.76 | E104: Hulya Figen KARADAG | F104: TUR | G104: 1 | H104: 05.05.1968 | I104: 30.07.2022 | J104: Konya,TUR | K104: Turkish masters championship | L104: w +1.6
A105: 80mH | B105: 0,762m | C105: F55 | D105: 13.33 | E105: Maria MOURATIDOU | F105: GRE | G105: 1 | H105: 12.03.1967 | I105: 06.07.2024 | J105: Thiva, GRE | K105: Greek masters championships | L105: w +2.0
A106: 80mH | B106: 0,686m | C106: F60 | D106: 16.46 | E106: Marcela PACRITA | F106: ROU | G106: 1 | H106: 20.06.1954 | I106: 27.08.2014 | J106: Izmir, TUR | K106: EMACS
A107: 80mH | B107: 0,686m | C107: F65 | D107: 17.56 | E107: Kamuran SONMEZ | F107: TUR | G107: 1 | H107: 15.02.1958 | I107: 02.09.2023 | J107: Izmir, TUR | K107: BAMACS | L107: w + 0.6
A108: 80mH | B108: 0,686m | C108: F70 | D108: 20.24 | E108: Eleni GOUZIA | F108: GRE | G108: 1 | H108: 07.01.1945 | I108: 19.09.2015 | J108: Thessaloniki, GRE | K108: BAMACS
A109: 400mH | B109: 0,762m | C109: F35 | D109: 58.38 | E109: Christina CHATZI-NEAG | F109: GRE | G109: 1 | H109: 26.12.1976 | I109: 20.07.2013 | J109: Athens, GRE | K109: Greek seniors championships
A110: 400mH | B110: 0,762m | C110: F40 | D110: 68.69 | E110: Snezana STANCETIC | F110: SRB | G110: 1 | H110: 15.12.1960 | I110: 26.07.2004 | J110: Aarhus, DEN | K110: EMACS
A111: 400mH | B111: 0,762m | C111: F45 | D111: 64.18 | E111: Anastasia THOMAIDOU | F111: GRE | G111: 1 | H111: 30.01.1978 | I111: 22.09.2023 | J111: Pescara,ITA | K111: EMACS
A112: 300mH | B112: 0,762m | C112: F50 | D112: 50.45 | E112: Pinar SOYDEMIR | F112: TUR | G112: 1 | H112: 09.03.1972 | I112: 23.09.2023 | J112: Pescara,ITA | K112: EMACS
A113: 300mH | B113: 0,762m | C113: F55 | D113: 51.82 | E113: Hulya Figen KARADAG | F113: TUR | G113: 1 | H113: 05.05.1968 | I113: 02.09.2023 | J113: Izmir, TUR | K113: BAMACS
A114: 300mH | B114: 0,686m | C114: F60 | D114: 57.25 | E114: Marcela PACRITA | F114: ROU | G114: 1 | H114: 20.06.1954 | I114: 28.08.2014 | J114: Izmir, TUR | K114: EMACS
A115: 2000mSt | B115: 0,762m (18 Barriers, 5 Water jumps) | C115: F35 | D115: 7:26.52 | E115: Slavica POZNIC | F115: SLO | G115: 1 | H115: 07.05.1960 | I115: 22.07.1997 | J115: Durban, RSA | K115: World masters championships
A116: 2000mSt | C116: F40 | D116: 7:46.66 | E116: Slavica POZNIC | F116: SLO | G116: 1 | H116: 07.05.1960 | I116: 14.07.2001 | J116: Brisbane, AUS | K116: World masters championships
A117: 2000mSt | C117: F45 | D117: 8:03.40 | E117: Krasimira CHAHOVA | F117: BUL | G117: 1 | H117: 17.09.1967 | I117: 22.10.2013 | J117: Porto Alegre, BRA | K117: World masters championships
A118: 2000mSt | C118: F50 | D118: 8:32.82 | E118: Mariana PARJU | F118: ROU | G118: 1 | H118: 27.07.1971 | I118: 25.09.2022 | J118: Thessaloniki, GRE | K118: BAMACS
A119: 2000mSt | C119: F55 | D119: 8:43.87 | E119: Philippa POULIDOU | F119: GRE | G119: 1 | H119: 11.05.1969 | I119: 13.08.2024 | J119: Gothenburg, SWE | K119: World masters championships
A120: 2000mSt | C120: F60 | D120: 9:20.84 | E120: Marcela PACRITA | F120: ROU | G120: 1 | H120: 20.06.1954 | I120: 29.08.2014 | J120: Izmir, TUR | K120: European masters championships
A121: 5000mw | C121: F35 | D121: 21:06.4 | E121: Antigoni DRISBIOTI | F121: GRE | G121: 1 | H121: 21.03.1984 | I121: 24.06.2022 | J121: Karpenisi, GRE | K121: Greek national championships
A122: 5000mw | C122: F40 | D122: 25:36.10 | E122: Kalliopi GAVALAKI | F122: GRE | G122: 1 | H122: 24.12.1966 | I122: 27.09.2009 | J122: Izmir, TUR | K122: Balkan masters championships
A123: 5000mw | C123: F45 | D123: 27:39.24 | E123: Aggeliki MAKRI | F123: GRE | G123: 1 | H123: 25.09.1978 | I123: 06.07.2024 | J123: Thiva, GRE | K123: Greek masters championships
A124: 5000mw | C124: F50 | D124: 27:33.62 | E124: Kalliopi GAVALAKI | F124: GRE | G124: 1 | H124: 24.12.1966 | I124: 06.09.2019 | J124: Venezia, ITA | K124: European Masters games
A125: 5000mw | C125: F55 | D125: 29:23.0 | E125: Kalliopi GAVALAKI | F125: GRE | G125: 1 | H125: 24.12.1966 | I125: 16.07.2022 | J125: Volo, GRE | K125: Greek masters championships
A126: 5000mw | C126: F60 | D126: 32:50.4 | E126: Paula CHIURLEA | F126: ROU | G126: 1 | H126: 29.06.1943 | I126: 20.09.2003 | J126: Katerini, GRE | K126: Balkan masters championships
A127: 5000mw | C127: F65 | D127: 30:55.51 | E127: Emilia GUSAT | F127: ROU | G127: 1 | H127: 21.02.1943 | I127: 27.09.2009 | J127: Izmir, TUR | K127: Balkan masters championships
... A145: LJ | C145: F40 | D145: 5.39 | E145: Florina MARIN | F145: ROU | G145: 1 | H145: 05.10.1974 | I145: 23.09.2017 | J145: Stara Zagora, BUL | K145: BAMACS
A146: LJ | C146: F45 | D146: 5.70 | E146: Magdalena HRISTOVA | F146: BUL | G146: 1 | H146: 25.02.1977 | I146: 24.09.2022 | J146: Thessaloniki, GRE | K146: BAMACS | L146: w -0.2 (WR)
A147: LJ | C147: F50 | D147: 5.16 | E147: Ana DAFTSOU | F147: GRE | G147: 1 | H147: 25.09.1970 | I147: 05.06.2021 | J147: Alexandropoulis (GRE) | K147: Greek masters meeting | L147: w +1.2
A148: LJ | C148: F55 | D148: 5.46 | E148: Renata NOVOSEL | F148: CRO | G148: 1 | H148: 28.11.1967 | I148: 08.07.2023 | J148: Varaždin, CRO | K148: Croatian masters championship | L148: w -1.5 (WR)
A149: LJ | C149: F60 | D149: 3.90 | E149: Rozka STANCHEVA | F149: BUL | G149: 1 | H149: 02.05.1932 | I149: 18.07.1995 | J149: Pleven, BUL | K149: Bulgarian masters championships
A150: LJ | C150: F65 | D150: 3.49 | E150: Rozka STANCHEVA | F150: BUL | G150: 1 | H150: 02.05.1932 | I150: 18.07.1999 | J150: Sofia, BUL | K150: Bulgarian masters championships
A151: LJ | C151: F65 | D151: 3.49 | E151: Eleni GOUZIA | F151: GRE | G151: 1 | H151: 07.01.1945 | I151: 20.07.2010 | J151: Nyiregyhaza, HUN | K151: European masters championships
A152: LJ | C152: F70 | D152: 3.47 | E152: Rozka STANCHEVA | F152: BUL | G152: 1 | H152: 02.05.1932 | I152: 11.09.2004 | J152: Istanbul, TUR | K152: Balkan masters championships
A153: LJ | C153: F75 | D153: 3.36 | E153: Rozka STANCHEVA | F153: BUL | G153: 1 | H153: 02.05.1932 | I153: 05.09.2007 | J153: Riccione, ITA | K153: World masters championships
A154: LJ | C154: F80 | D154: 2.75 | E154: Rozka STANCHEVA | F154: BUL | G154: 1 | H154: 02.05.1932 | I154: 09.08.2013 | J154: Torino, ITA | K154: World masters games
A155: LJ | C155: F85 | D155: 2.12 | E155: Rozka STANCHEVA | F155: BUL | G155: 1 | H155: 02.05.1932 | I155: 11.09.2018 | J155: Malaga, ESP | K155: World masters championships
A156: TJ | C156: F35 | D156: 14.24 | E156: Olga BOLSHOVA | F156: MDA | G156: 1 | H156: 16.06.1968 | I156: 28.06.2003 | J156: Alcala de Henares, ESP | K156: International meeting
A157: TJ | C157: F40 | D157: 13.36 | E157: Biljana TOPIC | F157: SRB | G157: 1 | H157: 17.10.1977 | I157: 07.07.2018 | J157: Krusevac, SRB | K157: Serbian seniors championships
A158: TJ | C158: F45 | D158: 11.09 | E158: Fani LYKOU | F158: GRE | G158: 1 | H158: 13.02.1976 | I158: 08.07.2022 | J158: Tampere,FIN | K158: WMACS | L158: w +1.5
A159: TJ | C159: F50 | D159: 10.12 | E159: Hulya Figen KARADAG | F159: TUR | G159: 1 | H159: 05.05.1968 | I159: 25.09.2022 | J159: Thessaloniki, GRE | K159: BAMACS | L159: w + 0.4
A160: TJ | C160: F55 | D160: 10.41 | E160: Hulya Figen KARADAG | F160: TUR | G160: 1 | H160: 05.05.1968 | I160: 03.06.2023 | J160: Istanbul, TUR | K160: Istanbul athl. Trial competition | L160: w +0,9
A161: TJ | C161: F60 | D161: 8.59 | E161: Ayten BENLI | F161: TUR | G161: 1 | H161: 04.10.1962 | I161: 29.09.2024 | J161: Bar, MNE | K161: BAMACS | L161: w 0,0
A162: TJ | C162: F65 | D162: 7.45 | E162: Hamide XAJA | F162: ALB | G162: 1 | H162: 10.12.1941 | I162: 27.09.2009 | J162: Izmir, TUR | K162: BAMACS
A163: TJ | C163: F70 | D163: 5.68 | E163: Stanka PREZELJ | F163: SLO | G163: 1 | H163: 26.04.1952 | I163: 21.05.2022 | J163: Leibnitz, AUT | K163: Interstate Match
A164: TJ | C164: F75 | D164: 4.94 | E164: Mira PUHAR | F164: SLO | G164: 1 | H164: 17.05.1938 | I164: 07.09.2013 | J164: Zagreb, CRO | K164: BAMACS
A165: TJ | C165: F80 | D165: 5.96 | E165: Rozka STANCHEVA | F165: BUL | G165: 1 | H165: 02.05.1932 | I165: 07.08.2013 | J165: Torino, ITA | K165: World masters games
A166: HJ | C166: F35 | D166: 1.98 | E166: Venelina VENEVA | F166: BUL | G166: 1 | H166: 13.06.1974 | I166: 24.06.2011 | J166: Split, CRO | K166: International meeting
A167: HJ | C167: F40 | D167: 1.90 | E167: Venelina VENEVA | F167: BUL | G167: 1 | H167: 13.06.1974 | I167: 12.07.2014 | J167: Plovdiv, BUL | K167: Bulgarian seniors meeting
A168: HJ | C168: F45 | D168: 1.53 | E168: Aycan KURTCAN | F168: TUR | G168: 1 | H168: 22.05.1968 | I168: 19.09.2014 | J168: Bucharest, ROU | K168: BAMACS
A169: HJ | C169: F50 | D169: 1.50 | E169: Aycan KURTCAN | F169: TUR | G169: 1 | H169: 22.05.1968 | I169: 31.07.2019 | J169: Torino, ITA | K169: World masters games
A170: HJ | C170: F55 | D170: 1.46 | E170: Aycan KURTCAN | F170: TUR | G170: 1 | H170: 22.05.1968 | I170: 06.07.2024 | J170: Denizli, TUR | K170: Turkish Masters Athletics Championships 2024
A171: HJ | C171: F60 | D171: 1.38 | E171: Stanka PREZELJ | F171: SLO | G171: 1 | H171: 26.04.1952 | I171: 19.08.2012 | J171: Zittau, GER | K171: EMACS
A172: HJ | C172: F65 | D172: 1.31 | E172: Stanka PREZELJ | F172: SLO | G172: 1 | H172: 26.04.1952 | I172: 21.09.2018 | J172: Celje, SLO | K172: BAMACS
A173: HJ | C173: F70 | D173: 1.25 | E173: Stanka PREZELJ | F173: SLO | G173: 1 | H173: 26.04.1952 | I173: 10.08.2022 | J173: Ljubljana, SLO | K173: VAD meeting
... A180: PV | C180: F55 | D180: 2.20 | E180: Daniela MILITARU | F180: ROU | G180: 1 | H180: 02.12.1962 | I180: 25.08.2018 | J180: Bucharest, ROU | K180: Romanian masters championships
A181: SP | B181: 4kg | C181: F35 | D181: 21.89 | E181: Ivanka KHRISTOVA | F181: BUL | G181: 1 | H181: 19.11.1941 | I181: 04.07.1976 | J181: Belmeken, BUL | K181: Bulgarian seniors meeting
A182: SP | B182: 4kg | C182: F40 | D182: 14.01 | E182: Gorana TESANOVIC | F182: BIH | G182: 1 | H182: 09.05.1977 | I182: 27.05.2017 | J182: Slovenska Bistrica, SLO | K182: International meeting
A183: SP | B183: 4kg | C183: F45 | D183: 14.03 | E183: Alexandra MARGHIEVA | F183: MDA | G183: 1 | H183: 27.06.1959 | I183: 02.06.2007 | J183: Chisinau, MDA | K183: Moldovan seniors championships
...

Sheet Statistics
A1: Country | B1: # Of Records | C1: %
A2: ALB | B2: =SUMIF(Results!$F3:$F280,A2,Results!$G3:$G280) -> 1 | C2: =B2/B13*100 -> 0.3649635
A3: BIH | B3: =SUMIF(Results!$F3:$F280,A3,Results!$G3:$G280) -> 1 | C3: =B3/B13*100 -> 0.3649635
A4: BUL | B4: =SUMIF(Results!$F3:$F280,A4,Results!$G3:$G280) -> 37 | C4: =B4/B13*100 -> 13.50365
A5: CRO | B5: =SUMIF(Results!$F3:$F280,A5,Results!$G3:$G280) -> 10 | C5: =B5/B13*100 -> 3.649635
A6: GRE | B6: =SUMIF(Results!$F7:$F284,A6,Results!$G7:$G284) -> 48 | C6: =B6/B13*100 -> 17.518248
A7: MDA | B7: =SUMIF(Results!$F8:$F285,A7,Results!$G8:$G285) -> 15 | C7: =B7/B13*100 -> 5.4744526
A8: MNE | B8: =SUMIF(Results!$F9:$F286,A8,Results!$G9:$G286) -> 0 | C8: =B8/B13*100 -> 0
A9: ROU | B9: =SUMIF(Results!$F10:$F287,A9,Results!$G10:$G287) -> 77 | C9: =B9/B13*100 -> 28.10219
A10: SLO | B10: =SUMIF(Results!$F11:$F288,A10,Results!$G11:$G288) -> 59 | C10: =B10/B13*100 -> 21.532847
A11: SRB | B11: =SUMIF(Results!$F12:$F289,A11,Results!$G12:$G289) -> 3 | C11: =B11/B13*100 -> 1.0948905
A12: TUR | B12: =SUMIF(Results!$F3:$F280,A12,Results!$G3:G280) -> 23 | C12: =B12/B13*100 -> 8.3941606
A13: Grand Total | B13: =SUM(B2:B12) -> 274 | C13: =B13/B13*100 -> 100

Sheet Version
A1: Version | B1: 2024.10.30-v1
A2: Revised By | B2: Mehmet Bora Teoman
A4: Revisions
A5: 2024.04.28-v1 | B5: F65 Javelin Throw 400g record was removed (Zvezdana KRZIC - 24.40)
A6: 2024.04.28-v1 | B6: Statistics and Notes pages are added. Some adjustments were made on Results page.
A7: 2024.05.27-v1 | B7: F45 800m record (New Record -> Anastasia THOMAIDOU (GRE) - 2.20.90 , Old Record -> Ana JERMAN (SLO) - 2.21.35)
A8: 2024.06.06-v1 | B8: F75 Shotput record (New Record -> Marjeta CAD (SLO) - 9.01, Old Record -> Katarina SPORER (CRO) - 8.72)
A9: 2024.06.06-v1 | B9: F80 Shotput record (New Record -> Katarina SPORER (CRO) - 8.06, Old Record -> Penka HARALAMBIEVA (BUL) - 6.66)
A10: 2024.06.06-v1 | B10: F80 Discus record (New Record -> Katarina SPORER (CRO) - 17.66, Old Record -> Penka HARALAMBIEVA (BUL) - 17.60)
A11: 2024.06.06-v1 | B11: F55 Heptathlon record (New Record -> Maria MOURATIDOU (GRE) - 4463, Old Record -> Eleni GOUZIA (GRE) - 2931)
A12: 2024.06.06-v1 | B12: F50 400m record (New Record -> Anna DAFTSOU (GRE) - 1.06.54 , Old Record -> Zvonka BLATNIK (SLO) - 1.06.70)
A13: 2024.06.16-v1 | B13: F35 Hammer Throw (New Record -> Zalina MARGHIEVA (MDA) - 75.95 , Old Record -> Svetlana SUDAK (TUR) - 70.74)
A14: 2024.06.16-v1 | B14: F75 Throwing Peentathlon record (New Record -> Marjeta CAD (SLO) - 2778, Old Record -> Zvezdana KRŽIČ (SLO) - 2283)
A15: 2024.06.16-v1 | B15: F90 Hammer Throw New Record -> Rozka STANČEVA (BUL) - 6.75
A16: 2024.07.01-v1 | B16: F45 800m (New Record -> Anastasia THOMAIDOU (GRE) - 2.17.57, Old Record -> Anastasia THOMAIDOU (GRE) - 2.20.90)
... A35: 2024.10.30-v1 | B35: F55 SemiMarathon (New record -> Svetlana KAYA (TUR) - 1:27.17, Old Record -> Marjana BENEDIK (SLO) - 1:34.52)

Sheet Notes
A1: Notes
A2: 1) ONLY 21k Half Marathon, 42k Marathon and 10000m Walking events performed on the ROAD are recorded. All the other events must be held in TRACK & FIELD.
A3: 2) In order for the results in the 21K Half Marathon and 42K Marathon competitions to be considered records, the route of the race must comply with WMA rules (Competition Rules and Technical Rules Booklet, Technical Rule # 31.21).
A4: 3)
